BEGIN:VCALENDAR
VERSION:2.0
PRODID:-//hacksw/handcal//NONSGML v1.0//EN
CALSCALE:GREGORIAN
BEGIN:VTIMEZONE
TZID:America/Chicago
BEGIN:DAYLIGHT
TZOFFSETFROM:-0600
TZNAME:MDT
TZOFFSETTO:-0600
END:DAYLIGHT
END:VTIMEZONE
DTSTAMP:20260424T110529Z
UID:69eb94c920e1f
BEGIN:VEVENT
LOCATION:Bellwood Public Library, 600 Bohland Ave, Bellwood, IL US 60104
DESCRIPTION:<p>Join certified Zumba instructor LaToya Towns for energizing and fun weekly Zumba classes in-person&nbsp;at the Bellwood Library. For ages 14+.</p><p><strong>No class on May 2, May 16, June 6, &amp; June 27.&nbsp;</strong></p><p>Image by Gerd Altmann from Pixabay</p><p>&nbsp;</p><p>&nbsp;</p><p>&nbsp;</p>
DTSTART;TZID=America/Chicago:20260829T100000
DTEND;TZID=America/Chicago:20260829T110000
SUMMARY:Drop-in Zumba 
URL;VALUE=URI:/events/series/574
END:VEVENT
END:VCALENDAR