BEGIN:VCALENDAR
VERSION:2.0
PRODID:-//hacksw/handcal//NONSGML v1.0//EN
CALSCALE:GREGORIAN
BEGIN:VTIMEZONE
TZID:America/Chicago
BEGIN:DAYLIGHT
TZOFFSETFROM:-0600
TZNAME:MDT
TZOFFSETTO:-0600
END:DAYLIGHT
END:VTIMEZONE
DTSTAMP:20260424T093815Z
UID:69eb805787033
BEGIN:VEVENT
DESCRIPTION:<p>Need help with your resume? Book a half-hour appointment with a librarian! We'll go over formatting, content, and more. Appointments run from 11am-1pm.</p><p><a href="https://www.bellwoodlibrary.org/form/resrevapr26">Book your appointment here.</a></p>
DTSTART;TZID=America/Chicago:20260424T110000
DTEND;TZID=America/Chicago:20260424T130000
SUMMARY:Resume Review Appointments - April
URL;VALUE=URI:/resume-review-appointments-april-0
END:VEVENT
END:VCALENDAR