BEGIN:VCALENDAR
VERSION:2.0
PRODID:-//hacksw/handcal//NONSGML v1.0//EN
CALSCALE:GREGORIAN
BEGIN:VTIMEZONE
TZID:America/Chicago
BEGIN:DAYLIGHT
TZOFFSETFROM:-0600
TZNAME:MDT
TZOFFSETTO:-0600
END:DAYLIGHT
END:VTIMEZONE
DTSTAMP:20260423T093440Z
UID:69ea2e00466e7
BEGIN:VEVENT
DESCRIPTION:<p>Celebrate National Library Week with us by watching and discussing The Librarians, about the impact of book bans and challenges on libraries across the country. Our screening and discussion will touch on book bans, freedom to read, and libraries as agents of community.</p><p><a href="https://www.bellwoodlibrary.org/form/the-librarians-screening">Sign up here.</a></p>
DTSTART;TZID=America/Chicago:20260422T180000
DTEND;TZID=America/Chicago:20260422T200000
SUMMARY:The Librarians Screening
URL;VALUE=URI:/librarians-screening-0
END:VEVENT
END:VCALENDAR