BEGIN:VCALENDAR
VERSION:2.0
PRODID:-//hacksw/handcal//NONSGML v1.0//EN
CALSCALE:GREGORIAN
BEGIN:VTIMEZONE
TZID:America/Chicago
BEGIN:DAYLIGHT
TZOFFSETFROM:-0600
TZNAME:MDT
TZOFFSETTO:-0600
END:DAYLIGHT
END:VTIMEZONE
DTSTAMP:20260424T093012Z
UID:69eb7e743d1b2
BEGIN:VEVENT
DESCRIPTION:<p>Level up your creative tech skills with our three-week intensive Canva class. We'll create a social media campaign together using the software. Pre-requisite skills: typing, mouse skills, basic computer use.</p><p><a href="https://www.bellwoodlibrary.org/form/canva-spring-classes">Sign up here.</a> Must sign up at least the day before.</p>
DTSTART;TZID=America/Chicago:20260423T183000
DTEND;TZID=America/Chicago:20260423T193000
SUMMARY:Canva Classes: Social Media Campaign
URL;VALUE=URI:/canva-classes-social-media-campaign-2
END:VEVENT
END:VCALENDAR