BEGIN:VCALENDAR
VERSION:2.0
PRODID:-//hacksw/handcal//NONSGML v1.0//EN
CALSCALE:GREGORIAN
BEGIN:VTIMEZONE
TZID:America/Chicago
BEGIN:DAYLIGHT
TZOFFSETFROM:-0600
TZNAME:MDT
TZOFFSETTO:-0600
END:DAYLIGHT
END:VTIMEZONE
DTSTAMP:20260420T044722Z
UID:69e5f62a65284
BEGIN:VEVENT
DESCRIPTION:<p>Join us for a fun STEM project once a month!</p><p><a href="https://www.bellwoodlibrary.org/form/stem-club-march">Register here.</a></p>
DTSTART;TZID=America/Chicago:20260410T160000
DTEND;TZID=America/Chicago:20260410T170000
SUMMARY:Youth STEM Club
URL;VALUE=URI:/youth-stem-club-3
END:VEVENT
END:VCALENDAR