BEGIN:VCALENDAR
VERSION:2.0
PRODID:-//hacksw/handcal//NONSGML v1.0//EN
CALSCALE:GREGORIAN
BEGIN:VTIMEZONE
TZID:America/Chicago
BEGIN:DAYLIGHT
TZOFFSETFROM:-0600
TZNAME:MDT
TZOFFSETTO:-0600
END:DAYLIGHT
END:VTIMEZONE
DTSTAMP:20260422T085321Z
UID:69e8d2d1060ab
BEGIN:VEVENT
DESCRIPTION:<h5>Decorate a reusable tumbler. All supplies included.&nbsp;</h5><h5>Ages 14+. Anyone under 14 must be accompanied by a responsible adult.&nbsp;</h5><h5>Registration required.&nbsp;</h5>
DTSTART;TZID=America/Chicago:20260421T183000
DTEND;TZID=America/Chicago:20260421T193000
SUMMARY:Tumbler Decorating
URL;VALUE=URI:/tumbler-decorating-2
END:VEVENT
END:VCALENDAR