BEGIN:VCALENDAR
VERSION:2.0
PRODID:-//hacksw/handcal//NONSGML v1.0//EN
CALSCALE:GREGORIAN
BEGIN:VTIMEZONE
TZID:America/Chicago
BEGIN:DAYLIGHT
TZOFFSETFROM:-0600
TZNAME:MDT
TZOFFSETTO:-0600
END:DAYLIGHT
END:VTIMEZONE
DTSTAMP:20260422T230939Z
UID:69e99b8324f02
BEGIN:VEVENT
DESCRIPTION:<p>Want to level up your tech skills? Come to this workshop on thinking like a tech power user. In this session, you'll learn essential tips and tricks for navigating the web, using new software, and troublehsooting common issues like a pro.<br>&nbsp;</p>
DTSTART;TZID=America/Chicago:20250820T183000
DTEND;TZID=America/Chicago:20250820T193000
SUMMARY:Thinking Tech
URL;VALUE=URI:/thinking-tech-0
END:VEVENT
END:VCALENDAR