BEGIN:VCALENDAR
VERSION:2.0
PRODID:-//hacksw/handcal//NONSGML v1.0//EN
CALSCALE:GREGORIAN
BEGIN:VTIMEZONE
TZID:America/Chicago
BEGIN:DAYLIGHT
TZOFFSETFROM:-0600
TZNAME:MDT
TZOFFSETTO:-0600
END:DAYLIGHT
END:VTIMEZONE
DTSTAMP:20260423T114630Z
UID:69ea4ce644e04
BEGIN:VEVENT
LOCATION:Bellwood Public Library, 600 Bohland Ave, Bellwood, IL US 60104
DESCRIPTION:<p>Join us for a week of touch typing lessons! Come to the library and learn how to type without looking at the keyboard.<br />
&nbsp;</p>

<p><a href="https://www.bellwoodlibrary.org/form/typing-classes">Register here for the full week.</a></p>

DTSTART;TZID=America/Chicago:20250627T140000
DTEND;TZID=America/Chicago:20250627T150000
SUMMARY:Typing Classes
URL;VALUE=URI:/typing-classes-4
END:VEVENT
END:VCALENDAR