BEGIN:VCALENDAR
VERSION:2.0
PRODID:-//hacksw/handcal//NONSGML v1.0//EN
CALSCALE:GREGORIAN
BEGIN:VTIMEZONE
TZID:America/Chicago
BEGIN:DAYLIGHT
TZOFFSETFROM:-0600
TZNAME:MDT
TZOFFSETTO:-0600
END:DAYLIGHT
END:VTIMEZONE
DTSTAMP:20260422T120708Z
UID:69e9003c29379
BEGIN:VEVENT
DESCRIPTION:<p><span style="font-size:11pt; font-variant:normal; white-space:pre-wrap"><span style="font-family:Arial,sans-serif"><span style="color:#434343"><span style="background-color:#ffffff"><span style="font-weight:400"><span style="font-style:normal"><span style="text-decoration:none">Watch this award winning documentary from the comfort of your home! </span></span></span></span></span></span></span></p>

<p><span style="font-size:11pt; font-variant:normal; white-space:pre-wrap"><span style="font-family:Arial,sans-serif"><span style="color:#434343"><span style="background-color:#ffffff"><span style="font-weight:400"><span style="font-style:normal"><span style="text-decoration:none">This documentary highlights the creation of the 9to5 movement, which was established to fight for workplace equity and against wage discrepancy. The movement was the basis for the feature film, </span></span></span></span></span></span></span><span style="font-size:11pt; font-variant:normal; white-space:pre-wrap"><span style="font-family:Arial,sans-serif"><span style="color:#434343"><span style="background-color:#ffffff"><span style="font-weight:400"><span style="font-style:italic"><span style="text-decoration:none">9 to 5</span></span></span></span></span></span></span><span style="font-size:11pt; font-variant:normal; white-space:pre-wrap"><span style="font-family:Arial,sans-serif"><span style="color:#434343"><span style="background-color:#ffffff"><span style="font-weight:400"><span style="font-style:normal"><span style="text-decoration:none">, starring Jane Fonda, Dolly Parton and Lily Tomlin.&nbsp;</span></span></span></span></span></span></span></p>

<p style="line-height:1.38; margin-top:16px"><span style="font-size:11pt; font-variant:normal; white-space:pre-wrap"><span style="font-family:Arial,sans-serif"><span style="color:#434343"><span style="background-color:#ffffff"><span style="font-weight:400"><span style="font-style:normal"><span style="text-decoration:none">In the early 1970s, secretaries in Boston decided to fight against humiliating, harassing and illegal work environments. Their movement became national and is a largely forgotten story of U.S. twentieth century history. The director, Julia Reichert, was an Academy Award and Emmy Award winning documentarian.&nbsp;</span></span></span></span></span></span></span></p>

<p style="line-height:1.38; margin-top:16px"><span style="font-size:11pt; font-variant:normal; white-space:pre-wrap"><span style="font-family:Arial,sans-serif"><span style="color:#434343"><span style="background-color:#ffffff"><span style="font-weight:400"><span style="font-style:normal"><span style="text-decoration:none">This will be a virtual presentation that will be available on demand from Friday, March 21 beginning at 2:00 p.m. through Sunday, March 23, ending at 11:59 p.m. Registration is required to receive the link.</span></span></span></span></span></span></span></p>

<p style="line-height:1.38; margin-top:16px"><span style="font-size:11pt; font-variant:normal; white-space:pre-wrap"><span style="font-family:Arial,sans-serif"><span style="color:#434343"><span style="background-color:#ffffff"><span style="font-weight:400"><span style="font-style:normal"><span style="text-decoration:none">Register at:</span></span></span></span></span></span></span><span style="font-size:11pt; font-variant:normal; white-space:pre-wrap"><span style="font-family:Arial,sans-serif"><span style="color:#000000"><span style="background-color:#ffffff"><span style="font-weight:400"><span style="font-style:normal"><span style="text-decoration:none"> </span></span></span></span></span></span></span><a href="https://bit.ly/ILP_9to5" style="text-decoration:none"><span style="font-size:11pt; font-variant:normal; white-space:pre-wrap"><span style="font-family:Arial,sans-serif"><span style="color:#1155cc"><span style="font-weight:400"><span style="font-style:normal"><span style="text-decoration:underline"><span style="-webkit-text-decoration-skip:none"><span style="text-decoration-skip-ink:none">https://bit.ly/ILP_9to5</span></span></span></span></span></span></span></span></a><span style="font-size:11pt; font-variant:normal; white-space:pre-wrap"><span style="font-family:Arial,sans-serif"><span style="color:#000000"><span style="font-weight:400"><span style="font-style:normal"><span style="text-decoration:none">&nbsp;</span></span></span></span></span></span></p>

<p style="line-height:1.38; margin-top:16px"><span style="font-size:11pt; font-variant:normal; white-space:pre-wrap"><span style="font-family:Arial,sans-serif"><span style="color:#434343"><span style="background-color:#ffffff"><span style="font-weight:400"><span style="font-style:italic"><span style="text-decoration:none">This event is made possible by Illinois Libraries Present (ILP), a statewide collaboration among public libraries offering premier events. ILP is funded in part by a grant awarded by the Illinois State Library, a department of the Office of Secretary of State, using funds provided by the U.S. Institute of Museum and Library Services, under the provisions of the Library Services and Technology Act (LSTA).&nbsp;</span></span></span></span></span></span></span></p>

<p style="line-height:1.38; margin-top:16px"><span style="font-size:10.5pt; font-variant:normal; white-space:pre-wrap"><span style="font-family:Arial,sans-serif"><span style="color:#434343"><span style="background-color:#ffffff"><span style="font-weight:400"><span style="font-style:normal"><span style="text-decoration:none">ILP is committed to inclusion and accessibility. To request accommodations, please email </span></span></span></span></span></span></span><a href="mailto:illinoislibrariespresent@gmail.com" style="text-decoration:none"><span style="font-size:10.5pt; font-variant:normal; white-space:pre-wrap"><span style="font-family:Arial,sans-serif"><span style="color:#1155cc"><span style="background-color:#ffffff"><span style="font-weight:400"><span style="font-style:normal"><span style="text-decoration:underline"><span style="-webkit-text-decoration-skip:none"><span style="text-decoration-skip-ink:none">illinoislibrariespresent@gmail.com</span></span></span></span></span></span></span></span></span></a></p>

<p style="line-height:1.38; margin-top:16px"></p>

<p></p>

DTSTART;TZID=America/Chicago:20250321T140000
DTEND;TZID=America/Chicago:20250321T235900
SUMMARY:9to5: The Story of a Movement (virtual documentary)
URL;VALUE=URI:/9to5-story-movement-virtual-2
END:VEVENT
END:VCALENDAR