BEGIN:VCALENDAR
VERSION:2.0
PRODID:-//hacksw/handcal//NONSGML v1.0//EN
CALSCALE:GREGORIAN
BEGIN:VTIMEZONE
TZID:America/Chicago
BEGIN:DAYLIGHT
TZOFFSETFROM:-0600
TZNAME:MDT
TZOFFSETTO:-0600
END:DAYLIGHT
END:VTIMEZONE
DTSTAMP:20260424T115918Z
UID:69eba1663c0a8
BEGIN:VEVENT
DESCRIPTION:<p style="margin-bottom:11px"><span style="font-size:11pt"><span style="line-height:107%"><span style="font-family:Calibri,sans-serif"><span lang="EN-US" style="font-size:18.0pt"><span style="line-height:107%">Central Credit Union of Illinois is dedicated to helping you better understand your financial needs, including the importance of savings and credit. Our financial presentations will cover essential topics such as basic financial understanding for youth, the significance of credit and credit scores, and banking 101, which includes how to open and manage your bank account. Refreshments will be provided.</span></span></span></span></span></p>

DTSTART;TZID=America/Chicago:20250220T153000
DTEND;TZID=America/Chicago:20250220T163000
SUMMARY:Central Credit Union of IL
URL;VALUE=URI:/central-credit-union-il-0
END:VEVENT
END:VCALENDAR