BEGIN:VCALENDAR
VERSION:2.0
PRODID:-//hacksw/handcal//NONSGML v1.0//EN
CALSCALE:GREGORIAN
BEGIN:VTIMEZONE
TZID:America/Chicago
BEGIN:DAYLIGHT
TZOFFSETFROM:-0600
TZNAME:MDT
TZOFFSETTO:-0600
END:DAYLIGHT
END:VTIMEZONE
DTSTAMP:20260420T100431Z
UID:69e6407f9995d
BEGIN:VEVENT
DESCRIPTION:<p>Want to learn to use the computer? Want to improve your tech skills? Come to our computer basics classes! Each class focuses on one technology topic, and they're presented&nbsp;<strong>a la carte</strong>&nbsp;so you sign up for each individually. You can sign up by calling the library at 708-547-7393.</p>

DTSTART;TZID=America/Chicago:20250402T140000
DTEND;TZID=America/Chicago:20250402T150000
SUMMARY:Computer Basics Class
URL;VALUE=URI:/computer-basics-class-17
END:VEVENT
END:VCALENDAR