BEGIN:VCALENDAR
VERSION:2.0
PRODID:-//hacksw/handcal//NONSGML v1.0//EN
CALSCALE:GREGORIAN
BEGIN:VTIMEZONE
TZID:America/Chicago
BEGIN:DAYLIGHT
TZOFFSETFROM:-0600
TZNAME:MDT
TZOFFSETTO:-0600
END:DAYLIGHT
END:VTIMEZONE
DTSTAMP:20260419T070723Z
UID:69e4c57b4f666
BEGIN:VEVENT
DESCRIPTION:<p>Bellwood Public Library Board of Trustees Meeting</p>

<p>Open to the public.</p>

DTSTART;TZID=America/Chicago:20241210T183000
DTEND;TZID=America/Chicago:20241210T193000
SUMMARY:BPL Board of Trustees Monthly Meeting
URL;VALUE=URI:/events/series/557
END:VEVENT
END:VCALENDAR