BEGIN:VCALENDAR
VERSION:2.0
PRODID:-//hacksw/handcal//NONSGML v1.0//EN
CALSCALE:GREGORIAN
BEGIN:VTIMEZONE
TZID:America/Chicago
BEGIN:DAYLIGHT
TZOFFSETFROM:-0600
TZNAME:MDT
TZOFFSETTO:-0600
END:DAYLIGHT
END:VTIMEZONE
DTSTAMP:20260423T105332Z
UID:69ea407ca9385
BEGIN:VEVENT
LOCATION:Bellwood Public Library, 600 Bohland Ave, Bellwood, IL US 60104
DESCRIPTION:<p>Will Stephan combined his love for making things with his passion for skateboarding and founded Sapient Skateboards. Stephan builds handcrafted skateboards and also hopes to build a skateboarding community right here in the Midwest. Will Stephan will be speaking on being a young entrepreneur and the community building aspect of skateboarding.&nbsp;&nbsp;<strong>Registration is REQUIRED.</strong>&nbsp;<strong><u><a href="https://www.bellwoodlibrary.org/skateboard-culture-sapient-skateboards" target="_blank">Click here</a></u></strong> to register.</p>

DTSTART;TZID=America/Chicago:20220625T140000
DTEND;TZID=America/Chicago:20220625T140000
SUMMARY:Skateboard Culture with Sapient Skateboards
URL;VALUE=URI:/events/series/441
END:VEVENT
END:VCALENDAR